BEGIN:VCALENDAR
VERSION:2.0
PRODID:-//Hindustan Polyfab - ECPv6.0.13.1//NONSGML v1.0//EN
CALSCALE:GREGORIAN
METHOD:PUBLISH
X-WR-CALNAME:Hindustan Polyfab
X-ORIGINAL-URL:https://hindustanpolyfab.in
X-WR-CALDESC:Events for Hindustan Polyfab
REFRESH-INTERVAL;VALUE=DURATION:PT1H
X-Robots-Tag:noindex
X-PUBLISHED-TTL:PT1H
BEGIN:VTIMEZONE
TZID:UTC
BEGIN:STANDARD
TZOFFSETFROM:+0000
TZOFFSETTO:+0000
TZNAME:UTC
DTSTART:20250101T000000
END:STANDARD
END:VTIMEZONE
BEGIN:VEVENT
DTSTART;TZID=UTC:20250521T080000
DTEND;TZID=UTC:20250521T235959
DTSTAMP:20260421T152342
CREATED:20230301T231948Z
LAST-MODIFIED:20230504T100205Z
UID:4126-1747814400-1747871999@hindustanpolyfab.in
SUMMARY:Sed diam et dolore magna
DESCRIPTION:by \n\n\nadmin \n\n\non \n\n\nMarch 17\, 2023\n\n\n    \n        \n            \n                0 Likes            \n            \n                \n                    \n                        71                    \n                    Views\n                \n            \n        \n    \n\n\n\n\n\n\n\n\n\n\n\n\n\n\n\n\nEtuer adipiscing elit\, sed diam nonummy nibh euismod tincidunt ut laoreet dolore magna aliquam erat volutpat. \n\n\n\n Ut wisi enim ad minim veniam\, quis nostrud exerci tation ullamcorper suscipit lobortis nisl ut wisi enim ad minim veniam\, quis nostrud exerci tation ullamcorper suscipit lobortis nisl ut aliquip ex ea commodo consequat. Duis autem vel eum iriure dolor in hendrerit in vulputate velit esse molestie consequat.Duis autem vel eum iriure dolor in hendrerit in vulputate velit esse molestie consequat\, vel illum dolore eu feugiat nulla facilisis at vero eros et accumsan et iusto odio dignissim qui blandit praesent luptatum zzril delenit augue duis dolore te feugait nulla facilisi. At vero eos et accusam et justo duo.
URL:https://hindustanpolyfab.in/events/sed-diam-et-dolore-magna/
LOCATION:Boston City Hall\, City Hall Square\, Boston\, MA\, 02201\, United States
ATTACH;FMTTYPE=image/jpeg:https://hindustanpolyfab.in/wp-content/uploads/2022/04/20.jpg
END:VEVENT
END:VCALENDAR